BEGIN:VCALENDAR
VERSION:2.0
METHOD:PUBLISH
BEGIN:VEVENT
DTSTAMP:20260423T160805Z
DTSTART:20241121T180000Z
DTEND:20241122T000000Z
SUMMARY:Open House - Huron East Zone Map Modernization 
LOCATION:Brussels Library - 402 Turnberry Street Brussels, ON N0G 1H0 
END:VEVENT
END:VCALENDAR
