BEGIN:VCALENDAR
VERSION:2.0
METHOD:PUBLISH
BEGIN:VEVENT
DTSTAMP:20260425T171329Z
DTSTART:20250621T140000Z
DTEND:20250621T190000Z
SUMMARY:Brussels Optimist Club Classic Car Show
LOCATION:800 Sports Dr, Brussels
END:VEVENT
END:VCALENDAR
