BEGIN:VCALENDAR
VERSION:2.0
METHOD:PUBLISH
BEGIN:VEVENT
DTSTAMP:20260423T023410Z
DTSTART:20250729T160000Z
DTEND:20250729T180000Z
SUMMARY:Goderich: Brick by Brick: Summer LEGO Challenge
LOCATION:Goderich Branch - Huron County Library
END:VEVENT
END:VCALENDAR
