BEGIN:VCALENDAR
VERSION:2.0
METHOD:PUBLISH
BEGIN:VEVENT
DTSTAMP:20260420T072222Z
DTSTART:20250815T140000Z
DTEND:20250815T160000Z
SUMMARY:Exeter TV CMHA Rural Site Social and Connection Drop In
LOCATION:149 B Thames Road West
END:VEVENT
END:VCALENDAR
