BEGIN:VCALENDAR
VERSION:2.0
METHOD:PUBLISH
BEGIN:VEVENT
DTSTAMP:20260419T232456Z
DTSTART:20250827T170000Z
DTEND:20250827T190000Z
SUMMARY:Public Swim (Afternoon)
LOCATION:49 MacNaughton Drive, Exeter
END:VEVENT
END:VCALENDAR
