BEGIN:VCALENDAR
VERSION:2.0
METHOD:PUBLISH
BEGIN:VEVENT
DTSTAMP:20260419T232440Z
DTSTART:20250828T170000Z
DTEND:20250828T190000Z
SUMMARY:Public Swim (Afternoon)
LOCATION:49 MacNaughton Drive, Exeter
END:VEVENT
END:VCALENDAR
