BEGIN:VCALENDAR
VERSION:2.0
METHOD:PUBLISH
BEGIN:VEVENT
DTSTAMP:20260420T012336Z
DTSTART:20250829T170000Z
DTEND:20250829T190000Z
SUMMARY:Public Swim (Afternoon)
LOCATION:49 MacNaughton Drive, Exeter
END:VEVENT
END:VCALENDAR
