BEGIN:VCALENDAR
VERSION:2.0
METHOD:PUBLISH
BEGIN:VEVENT
DTSTAMP:20260419T115359Z
DTSTART:20250909T140000Z
DTEND:20250909T190000Z
SUMMARY:Service Canada Outreach Site at the Exeter Branch
LOCATION:330 Main St S Exeter, ON
END:VEVENT
END:VCALENDAR
