BEGIN:VCALENDAR
VERSION:2.0
METHOD:PUBLISH
BEGIN:VEVENT
DTSTAMP:20260419T134657Z
DTSTART:20250917T140000Z
DTEND:20250917T150000Z
SUMMARY:Seaforth Library - Men's Morning Coffee
LOCATION:108 Main Street South
END:VEVENT
END:VCALENDAR
