BEGIN:VCALENDAR
VERSION:2.0
METHOD:PUBLISH
BEGIN:VEVENT
DTSTAMP:20260419T134657Z
DTSTART:20250917T170000Z
DTEND:20250917T190000Z
SUMMARY:Seaforth Library Knitting/Crocheting/Craft Group
LOCATION:108 Main Street South
END:VEVENT
END:VCALENDAR
