BEGIN:VCALENDAR
VERSION:2.0
METHOD:PUBLISH
BEGIN:VEVENT
DTSTAMP:20260419T171810Z
DTSTART:20250918T160000Z
DTEND:20250918T170000Z
SUMMARY:Seaforth Library Noon Hour Book Club
LOCATION:108 Main Street South
END:VEVENT
END:VCALENDAR
