BEGIN:VCALENDAR
VERSION:2.0
METHOD:PUBLISH
BEGIN:VEVENT
DTSTAMP:20260419T190451Z
DTSTART:20251016T160000Z
DTEND:20251016T170000Z
SUMMARY:Seaforth Library Noon Hour Book Club
LOCATION:108 Main Street South
END:VEVENT
END:VCALENDAR
