BEGIN:VCALENDAR
VERSION:2.0
METHOD:PUBLISH
BEGIN:VEVENT
DTSTAMP:20260419T190506Z
DTSTART:20251120T170000Z
DTEND:20251120T180000Z
SUMMARY:Seaforth Library Noon Hour Book Club
LOCATION:108 Main Street South
END:VEVENT
END:VCALENDAR
