BEGIN:VCALENDAR
VERSION:2.0
METHOD:PUBLISH
BEGIN:VEVENT
DTSTAMP:20260422T221515Z
DTSTART:20260401T203000Z
DTEND:20260401T223000Z
SUMMARY:Public Open House - Exeter Main Street South Reconstruction
LOCATION:322 Main Street South, Exeter, ON
END:VEVENT
END:VCALENDAR
