BEGIN:VCALENDAR
VERSION:2.0
METHOD:PUBLISH
BEGIN:VEVENT
DTSTAMP:20260422T223108Z
DTSTART:20260401T220000Z
DTEND:20260401T233000Z
SUMMARY:Adult Craft Night: Decorative Garden Containers
LOCATION:Goderich Branch - Huron County Library
END:VEVENT
END:VCALENDAR
