BEGIN:VCALENDAR
VERSION:2.0
METHOD:PUBLISH
BEGIN:VEVENT
DTSTAMP:20260423T002704Z
DTSTART:20260402T150000Z
DTEND:20260402T155000Z
SUMMARY:Public Skating (SHRC)
LOCATION:94 Victoria Street East, Exeter
END:VEVENT
END:VCALENDAR
