BEGIN:VCALENDAR
VERSION:2.0
METHOD:PUBLISH
BEGIN:VEVENT
DTSTAMP:20260422T221525Z
DTSTART:20260402T190000Z
DTEND:20260402T220000Z
SUMMARY:Goderich: Community Job Fair
LOCATION:Maitland Rec. Centre
END:VEVENT
END:VCALENDAR
