BEGIN:VCALENDAR
VERSION:2.0
METHOD:PUBLISH
BEGIN:VEVENT
DTSTAMP:20260422T220533Z
DTSTART:20260402T230000Z
DTEND:20260403T010000Z
SUMMARY:Goderich: Open Mic Night
LOCATION:Square Brew 
END:VEVENT
END:VCALENDAR
