BEGIN:VCALENDAR
VERSION:2.0
METHOD:PUBLISH
BEGIN:VEVENT
DTSTAMP:20260423T021440Z
DTSTART:20260403T140000Z
DTEND:20260403T160000Z
SUMMARY:Dashwood Easter Egg Hunt &amp; Playground Grand Opening
LOCATION:158 Centre St, Dashwood
END:VEVENT
END:VCALENDAR
