BEGIN:VCALENDAR
VERSION:2.0
METHOD:PUBLISH
BEGIN:VEVENT
DTSTAMP:20260422T223138Z
DTSTART:20260404T180000Z
DTEND:20260404T200000Z
SUMMARY:Goderich Co-op Gallery Community Art Show Opening Reception
LOCATION:Goderich Co-op Gallery 
END:VEVENT
END:VCALENDAR
