BEGIN:VCALENDAR
VERSION:2.0
METHOD:PUBLISH
BEGIN:VEVENT
DTSTAMP:20260423T000915Z
DTSTART:20260407T210000Z
DTEND:20260407T210000Z
SUMMARY:Regular Council Meeting
LOCATION:23 Albert Street, Clinton ON
END:VEVENT
END:VCALENDAR
