BEGIN:VCALENDAR
VERSION:2.0
METHOD:PUBLISH
BEGIN:VEVENT
DTSTAMP:20260422T202045Z
DTSTART:20260407T230000Z
DTEND:20260408T010000Z
SUMMARY:Adult Dodgeball Program
LOCATION:94 Victoria St E, Exeter
END:VEVENT
END:VCALENDAR
