BEGIN:VCALENDAR
VERSION:2.0
METHOD:PUBLISH
BEGIN:VEVENT
DTSTAMP:20260422T202407Z
DTSTART:20260407T230000Z
DTEND:20260408T010000Z
SUMMARY:Something Big by the Almost Famous Players
LOCATION:274 Josephine St  Wingham ON
END:VEVENT
END:VCALENDAR
