BEGIN:VCALENDAR
VERSION:2.0
METHOD:PUBLISH
BEGIN:VEVENT
DTSTAMP:20260422T224956Z
DTSTART:20260409T220000Z
DTEND:20260409T231500Z
SUMMARY:The Power of your Breath for your Overall Wellbeing - 4 Week Breathwork Series
LOCATION:158 Centre St, Dashwood
END:VEVENT
END:VCALENDAR
