BEGIN:VCALENDAR
VERSION:2.0
METHOD:PUBLISH
BEGIN:VEVENT
DTSTAMP:20260423T001028Z
DTSTART:20260410T220000Z
DTEND:20260410T230000Z
SUMMARY:After-Hours Nerf Battle
LOCATION:330 Main St S Exeter, ON
END:VEVENT
END:VCALENDAR
