BEGIN:VCALENDAR
VERSION:2.0
METHOD:PUBLISH
BEGIN:VEVENT
DTSTAMP:20260422T202652Z
DTSTART:20260411T233000Z
DTEND:20260411T233000Z
SUMMARY:Huron Hospice Candlelight Memorial Walk
LOCATION:Taylor Trail - 38572 Mill Rd., Varna 
END:VEVENT
END:VCALENDAR
