BEGIN:VCALENDAR
VERSION:2.0
METHOD:PUBLISH
BEGIN:VEVENT
DTSTAMP:20260422T204332Z
DTSTART:20260412T170000Z
DTEND:20260412T200000Z
SUMMARY:Scrabble Tournament at Imposter Brewing Company
LOCATION:Imposter Brewing Company, 190 Thames Rd E Unit 102, Exeter, ON N0M 1S3
END:VEVENT
END:VCALENDAR
