BEGIN:VCALENDAR
VERSION:2.0
METHOD:PUBLISH
BEGIN:VEVENT
DTSTAMP:20260422T221414Z
DTSTART:20260415T203000Z
DTEND:20260415T230000Z
SUMMARY:Canadian Film Day- The Grand Seduction
LOCATION:Kirkton-Woodham Community Centre, 70497 Perth Road 164, Kirkton, ON
END:VEVENT
END:VCALENDAR
