BEGIN:VCALENDAR
VERSION:2.0
METHOD:PUBLISH
BEGIN:VEVENT
DTSTAMP:20260422T204402Z
DTSTART:20260415T220000Z
DTEND:20260416T000000Z
SUMMARY:Canadian Film Day- Teen Film Screening "I Like Movies"
LOCATION:330 Main St S Exeter, ON
END:VEVENT
END:VCALENDAR
