BEGIN:VCALENDAR
VERSION:2.0
METHOD:PUBLISH
BEGIN:VEVENT
DTSTAMP:20260423T065137Z
DTSTART:20260416T230000Z
DTEND:20260417T010000Z
SUMMARY:Exeter Rodeo Committee
LOCATION:Crediton Community Centre, 38 Victoria Ave East Crediton 
END:VEVENT
END:VCALENDAR
