BEGIN:VCALENDAR
VERSION:2.0
METHOD:PUBLISH
BEGIN:VEVENT
DTSTAMP:20260422T220548Z
DTSTART:20260422T180000Z
DTEND:20260422T190000Z
SUMMARY:Tech Time
LOCATION:330 Main St. S., Exeter, ON
END:VEVENT
END:VCALENDAR
