BEGIN:VCALENDAR
VERSION:2.0
METHOD:PUBLISH
BEGIN:VEVENT
DTSTAMP:20260423T012838Z
DTSTART:20260424T140000Z
DTEND:20260424T160000Z
SUMMARY:PD Day Sprout House
LOCATION:330 Main St S Exeter, ON
END:VEVENT
END:VCALENDAR
