BEGIN:VCALENDAR
VERSION:2.0
METHOD:PUBLISH
BEGIN:VEVENT
DTSTAMP:20260424T162023Z
DTSTART:20260428T220000Z
DTEND:20260428T230000Z
SUMMARY:Tech 101: Certification Workshops
LOCATION:Goderich Branch - Huron County Library
END:VEVENT
END:VCALENDAR
