BEGIN:VCALENDAR
VERSION:2.0
METHOD:PUBLISH
BEGIN:VEVENT
DTSTAMP:20260420T181646Z
DTSTART:20260430T130000Z
DTEND:20260430T140000Z
SUMMARY:Grand Bend and Area Joint Sewage Board
LOCATION:Remote Electronic Meeting Contact the Clerk (clerk@southhuron.ca) for meeting invitation details.
END:VEVENT
END:VCALENDAR
