BEGIN:VCALENDAR
VERSION:2.0
METHOD:PUBLISH
BEGIN:VEVENT
DTSTAMP:20260420T155853Z
DTSTART:20260513T223000Z
DTEND:20260514T000000Z
SUMMARY:Conversation Circles
LOCATION:330 Main St S Exeter, ON
END:VEVENT
END:VCALENDAR
