BEGIN:VCALENDAR
VERSION:2.0
METHOD:PUBLISH
BEGIN:VEVENT
DTSTAMP:20260420T202022Z
DTSTART:20260519T140000Z
DTEND:20260519T150000Z
SUMMARY:South Huron Strides
LOCATION:94 Victoria St E, Exeter
END:VEVENT
END:VCALENDAR
