BEGIN:VCALENDAR
VERSION:2.0
METHOD:PUBLISH
BEGIN:VEVENT
DTSTAMP:20260420T174628Z
DTSTART:20260520T223000Z
DTEND:20260521T000000Z
SUMMARY:Conversation Circles
LOCATION:330 Main St S Exeter, ON
END:VEVENT
END:VCALENDAR
