BEGIN:VCALENDAR
VERSION:2.0
METHOD:PUBLISH
BEGIN:VEVENT
DTSTAMP:20260422T232329Z
DTSTART:20260528T230000Z
DTEND:20260529T010000Z
SUMMARY:Exeter Rodeo Committee
LOCATION:South Huron Recreation Center
END:VEVENT
END:VCALENDAR
