BEGIN:VCALENDAR
VERSION:2.0
METHOD:PUBLISH
BEGIN:VEVENT
DTSTAMP:20260423T000322Z
DTSTART:20260708T180000Z
DTEND:20260708T190000Z
SUMMARY:Tech Time
LOCATION:330 Main St. S., Exeter, ON
END:VEVENT
END:VCALENDAR
